BEGIN:VCALENDAR
VERSION:2.0
PRODID:-//Grace Baptist Church - ECPv6.15.20//NONSGML v1.0//EN
CALSCALE:GREGORIAN
METHOD:PUBLISH
X-WR-CALNAME:Grace Baptist Church
X-ORIGINAL-URL:https://www.growingatgrace.com
X-WR-CALDESC:Events for Grace Baptist Church
REFRESH-INTERVAL;VALUE=DURATION:PT1H
X-Robots-Tag:noindex
X-PUBLISHED-TTL:PT1H
BEGIN:VTIMEZONE
TZID:America/New_York
BEGIN:DAYLIGHT
TZOFFSETFROM:-0500
TZOFFSETTO:-0400
TZNAME:EDT
DTSTART:20250309T070000
END:DAYLIGHT
BEGIN:STANDARD
TZOFFSETFROM:-0400
TZOFFSETTO:-0500
TZNAME:EST
DTSTART:20251102T060000
END:STANDARD
BEGIN:DAYLIGHT
TZOFFSETFROM:-0500
TZOFFSETTO:-0400
TZNAME:EDT
DTSTART:20260308T070000
END:DAYLIGHT
BEGIN:STANDARD
TZOFFSETFROM:-0400
TZOFFSETTO:-0500
TZNAME:EST
DTSTART:20261101T060000
END:STANDARD
BEGIN:DAYLIGHT
TZOFFSETFROM:-0500
TZOFFSETTO:-0400
TZNAME:EDT
DTSTART:20270314T070000
END:DAYLIGHT
BEGIN:STANDARD
TZOFFSETFROM:-0400
TZOFFSETTO:-0500
TZNAME:EST
DTSTART:20271107T060000
END:STANDARD
END:VTIMEZONE
BEGIN:VEVENT
DTSTART;TZID=America/New_York:20260325T183000
DTEND;TZID=America/New_York:20260325T193000
DTSTAMP:20260425T094931
CREATED:20260316T152840Z
LAST-MODIFIED:20260316T152840Z
UID:3542-1774463400-1774467000@www.growingatgrace.com
SUMMARY:Worship Night
DESCRIPTION:Come and worship during our Living Room style Worship Night.
URL:https://www.growingatgrace.com/event/worship-night/
ATTACH;FMTTYPE=image/jpeg:https://www.growingatgrace.com/wp-content/uploads/2026/01/Screen_1920x1080.jpg
END:VEVENT
BEGIN:VEVENT
DTSTART;TZID=America/New_York:20260326T183000
DTEND;TZID=America/New_York:20260326T203000
DTSTAMP:20260425T094931
CREATED:20260316T153034Z
LAST-MODIFIED:20260316T153034Z
UID:3544-1774549800-1774557000@www.growingatgrace.com
SUMMARY:Teen Skate Night
DESCRIPTION:Calling all teens! Join us at Astro Skate for Christian Night! For more details see Pastor Nathan!
URL:https://www.growingatgrace.com/event/teen-skate-night/
ATTACH;FMTTYPE=image/png:https://www.growingatgrace.com/wp-content/uploads/2026/03/SLSkateNight_Screen_1920x1080.png
END:VEVENT
BEGIN:VEVENT
DTSTART;VALUE=DATE:20260329
DTEND;VALUE=DATE:20260330
DTSTAMP:20260425T094931
CREATED:20260211T030356Z
LAST-MODIFIED:20260316T153211Z
UID:3467-1774742400-1774828799@www.growingatgrace.com
SUMMARY:The Great Easter Mystery - Grace Kidz Performance & 5th Sunday Potluck!
DESCRIPTION:Join Us for Church This Sunday!! \nWe’d love to have you join us for worship and fellowship at 9:00 AM or 10:45 AM in the main auditorium. Our Grace Kidz have a performance during both services!  You don’t want to miss this!  Immediately following the second service we will enjoy our 5th Sunday Potluck- bring a dish and hang out! \nStart Your Morning Right \nOur coffee shop\, GRACE Perks\, is open before both services—grab a coffee and connect with others before worship begins! \n  \nClasses during Service:  \n\nAdult Bible Fellowship: 9am & 10:45am\nYoung Adults Small Group: 9am Connect and grow with others in your stage of life\nStudent Life (Upper Room): 9am A place for middle and high school students\nGrace Kidz: 9am and 10:45am Fun and engaging Bible-based learning for children\nNursery: 9am and 10:45am Loving care for infants and toddlers\n\nCome as you are and experience a community centered on Christ. We can’t wait to welcome you this Sunday!
URL:https://www.growingatgrace.com/event/the-great-easter-mystery-grace-kidz-performance/
ATTACH;FMTTYPE=image/png:https://www.growingatgrace.com/wp-content/uploads/2026/02/1920x1080.png
END:VEVENT
BEGIN:VEVENT
DTSTART;VALUE=DATE:20260401
DTEND;VALUE=DATE:20260402
DTSTAMP:20260425T094931
CREATED:20260211T033648Z
LAST-MODIFIED:20260211T033648Z
UID:3497-1775001600-1775087999@www.growingatgrace.com
SUMMARY:No Mid-Week
DESCRIPTION:
URL:https://www.growingatgrace.com/event/no-mid-week/
ATTACH;FMTTYPE=image/png:https://www.growingatgrace.com/wp-content/uploads/2025/03/No-Midweek.png
END:VEVENT
BEGIN:VEVENT
DTSTART;TZID=America/New_York:20260402T100000
DTEND;TZID=America/New_York:20260402T113000
DTSTAMP:20260425T094931
CREATED:20260211T033830Z
LAST-MODIFIED:20260211T033830Z
UID:3499-1775124000-1775129400@www.growingatgrace.com
SUMMARY:Prayer Gathering
DESCRIPTION:Join our Prayer Team 10am-11:30am at the church for a time of prayer.
URL:https://www.growingatgrace.com/event/prayer-gathering/
ATTACH;FMTTYPE=image/png:https://www.growingatgrace.com/wp-content/uploads/2024/12/1-1.png
END:VEVENT
BEGIN:VEVENT
DTSTART;TZID=America/New_York:20260403T190000
DTEND;TZID=America/New_York:20260403T203000
DTSTAMP:20260425T094931
CREATED:20260211T034526Z
LAST-MODIFIED:20260211T034526Z
UID:3508-1775242800-1775248200@www.growingatgrace.com
SUMMARY:Good Friday & Communion
DESCRIPTION:
URL:https://www.growingatgrace.com/event/good-friday-communion/
ATTACH;FMTTYPE=image/jpeg:https://www.growingatgrace.com/wp-content/uploads/2026/02/Good-Friday-2023.jpeg
END:VEVENT
BEGIN:VEVENT
DTSTART;TZID=America/New_York:20260404T100000
DTEND;TZID=America/New_York:20260404T120000
DTSTAMP:20260425T094931
CREATED:20260211T025828Z
LAST-MODIFIED:20260223T193539Z
UID:3463-1775296800-1775304000@www.growingatgrace.com
SUMMARY:THE HUNT - Community Event
DESCRIPTION:Join us 10am -12noon for our FIRST EVER – HUNT to find out what happened to Jesus. \nWe will go on a mission\, hunt for eggs and clues\, and play games along the way! \nFace Painting\, Candy Walk\, Games\, Egg Hunt\, and more! \nYou don’t want to miss out!
URL:https://www.growingatgrace.com/event/the-easter-trail-community-event/
LOCATION:Grace Baptist Church\, 114 Kingsway Rd\, Brandon\, FL 33510\, USA
ATTACH;FMTTYPE=image/png:https://www.growingatgrace.com/wp-content/uploads/2026/02/TheHunt_1920x1080.png
END:VEVENT
BEGIN:VEVENT
DTSTART;VALUE=DATE:20260405
DTEND;VALUE=DATE:20260406
DTSTAMP:20260425T094931
CREATED:20260316T154058Z
LAST-MODIFIED:20260316T154058Z
UID:3548-1775347200-1775433599@www.growingatgrace.com
SUMMARY:Easter Sunday!
DESCRIPTION:Join Us for Church This EASTER Sunday! \nWe’d love to have you join us for worship and fellowship at 9:00 AM or 10:45 AM in the main auditorium. \nGrace Growth Track will take place during the 9am service. Come and learn more about our church and our purpose. \nStart Your Morning Right \nOur coffee shop\, GRACE Perks\, is open before both services—grab a coffee and connect with others before worship begins! \nClasses during Service:  \n\nAdult Bible Fellowship: 9am & 10:45am\nYoung Adults Small Group: 9am Connect and grow with others in your stage of life\nStudent Life (Upper Room): 9am A place for middle and high school students\nGrace Kidz: 9am and 10:45am Fun and engaging Bible-based learning for children\nNursery: 9am and 10:45am Loving care for infants and toddlers\n\nCome as you are and experience a community centered on Christ. We can’t wait to welcome you this Sunday! \n  \n 
URL:https://www.growingatgrace.com/event/easter-sunday/
ATTACH;FMTTYPE=image/png:https://www.growingatgrace.com/wp-content/uploads/2026/03/Easter_1920x1080.png
END:VEVENT
BEGIN:VEVENT
DTSTART;VALUE=DATE:20260408
DTEND;VALUE=DATE:20260409
DTSTAMP:20260425T094931
CREATED:20260316T155301Z
LAST-MODIFIED:20260316T160040Z
UID:3552-1775606400-1775692799@www.growingatgrace.com
SUMMARY:Grace Home Gathering April 8th & 15th
DESCRIPTION:Life is Better together! For the next 2 Wednesday’s we are doing what we call “Grace Home Gatherings” a fun evening meeting new people. \nSign up at the Connection Center to host or attend a Grace Home Gathering night!
URL:https://www.growingatgrace.com/event/grace-home-gathering-april-8th-15th/
ATTACH;FMTTYPE=image/jpeg:https://www.growingatgrace.com/wp-content/uploads/2025/06/home-gatherings.jpg
END:VEVENT
BEGIN:VEVENT
DTSTART;VALUE=DATE:20260412
DTEND;VALUE=DATE:20260413
DTSTAMP:20260425T094931
CREATED:20260316T155624Z
LAST-MODIFIED:20260316T155946Z
UID:3556-1775952000-1776038399@www.growingatgrace.com
SUMMARY:Worship Service 9am & 10:45am
DESCRIPTION:Join Us for Church This Sunday! \nWe’d love to have you join us for worship and fellowship at 9:00 AM or 10:45 AM in the main auditorium. \nStart Your Morning Right \nOur coffee shop\, GRACE Perks\, is open before both services—grab a coffee and connect with others before worship begins! \nClasses during Service:  \n\nAdult Bible Fellowship: 9am & 10:45am\nYoung Adults Small Group: 9am Connect and grow with others in your stage of life\nStudent Life (Upper Room): 9am A place for middle and high school students\nGrace Kidz: 9am and 10:45am Fun and engaging Bible-based learning for children\nNursery: 9am and 10:45am Loving care for infants and toddlers\n\nCome as you are and experience a community centered on Christ. We can’t wait to welcome you this Sunday! \n  \n 
URL:https://www.growingatgrace.com/event/worship-service-9am-1045am-4/
ATTACH;FMTTYPE=image/png:https://www.growingatgrace.com/wp-content/uploads/2024/08/gracegeneric.png
END:VEVENT
BEGIN:VEVENT
DTSTART;VALUE=DATE:20260415
DTEND;VALUE=DATE:20260416
DTSTAMP:20260425T094931
CREATED:20260316T155359Z
LAST-MODIFIED:20260316T155359Z
UID:3554-1776211200-1776297599@www.growingatgrace.com
SUMMARY:Grace Home Gathering April 15th
DESCRIPTION:Life is Better together! A fun evening meeting new people. \nSign up at the Connection Center to host or attend a Grace Home Gathering night!
URL:https://www.growingatgrace.com/event/grace-home-gathering-april-15th/
ATTACH;FMTTYPE=image/jpeg:https://www.growingatgrace.com/wp-content/uploads/2025/06/home-gatherings.jpg
END:VEVENT
BEGIN:VEVENT
DTSTART;TZID=America/New_York:20260416T100000
DTEND;TZID=America/New_York:20260416T110000
DTSTAMP:20260425T094931
CREATED:20260211T033919Z
LAST-MODIFIED:20260211T033919Z
UID:3501-1776333600-1776337200@www.growingatgrace.com
SUMMARY:Prayer Gathering
DESCRIPTION:Join our Prayer Team 10am-11:30am at the church for a time of prayer.
URL:https://www.growingatgrace.com/event/prayer-gathering-2/
ATTACH;FMTTYPE=image/png:https://www.growingatgrace.com/wp-content/uploads/2024/12/1-1.png
END:VEVENT
BEGIN:VEVENT
DTSTART;TZID=America/New_York:20260416T113000
DTEND;TZID=America/New_York:20260416T130000
DTSTAMP:20260425T094931
CREATED:20260316T155802Z
LAST-MODIFIED:20260316T155802Z
UID:3558-1776339000-1776344400@www.growingatgrace.com
SUMMARY:Classic's in the Park
DESCRIPTION:
URL:https://www.growingatgrace.com/event/classics-in-the-park/
LOCATION:Medard Park
ATTACH;FMTTYPE=image/png:https://www.growingatgrace.com/wp-content/uploads/2026/02/classics-generic-2025-1-scaled.png
END:VEVENT
BEGIN:VEVENT
DTSTART;TZID=America/New_York:20260417T180000
DTEND;TZID=America/New_York:20260417T200000
DTSTAMP:20260425T094931
CREATED:20260316T160602Z
LAST-MODIFIED:20260316T160602Z
UID:3560-1776448800-1776456000@www.growingatgrace.com
SUMMARY:Grace Men's Dinner out
DESCRIPTION:Olde Town Pizzeria & Pasta Co. 115 W. Bloomingdale Ave.
URL:https://www.growingatgrace.com/event/grace-mens-dinner-out/
ATTACH;FMTTYPE=image/jpeg:https://www.growingatgrace.com/wp-content/uploads/2026/03/Mens-Dinner-1.jpg
END:VEVENT
BEGIN:VEVENT
DTSTART;TZID=America/New_York:20260418T090000
DTEND;TZID=America/New_York:20260418T123000
DTSTAMP:20260425T094931
CREATED:20260211T032953Z
LAST-MODIFIED:20260211T033124Z
UID:3487-1776502800-1776515400@www.growingatgrace.com
SUMMARY:Sewing Class
DESCRIPTION:Meet in the Kidz Class.
URL:https://www.growingatgrace.com/event/sewing-class/
ATTACH;FMTTYPE=image/jpeg:https://www.growingatgrace.com/wp-content/uploads/2026/02/sewing-class.jpg
END:VEVENT
BEGIN:VEVENT
DTSTART;VALUE=DATE:20260419
DTEND;VALUE=DATE:20260420
DTSTAMP:20260425T094931
CREATED:20260316T161027Z
LAST-MODIFIED:20260316T161027Z
UID:3563-1776556800-1776643199@www.growingatgrace.com
SUMMARY:Sunday Worship 9am & 10:45am
DESCRIPTION:Join Us for Church This Sunday! \nWe’d love to have you join us for worship and fellowship at 9:00 AM or 10:45 AM in the main auditorium. \nStart Your Morning Right \nOur coffee shop\, GRACE Perks\, is open before both services—grab a coffee and connect with others before worship begins! \nClasses during Service:  \n\nAdult Bible Fellowship: 9am & 10:45am\nYoung Adults Small Group: 9am Connect and grow with others in your stage of life\nStudent Life (Upper Room): 9am A place for middle and high school students\nGrace Kidz: 9am and 10:45am Fun and engaging Bible-based learning for children\nNursery: 9am and 10:45am Loving care for infants and toddlers\n\nCome as you are and experience a community centered on Christ. We can’t wait to welcome you this Sunday! \n  \n 
URL:https://www.growingatgrace.com/event/sunday-worship-9am-1045am/
ATTACH;FMTTYPE=image/png:https://www.growingatgrace.com/wp-content/uploads/2024/12/sundayABF.png
END:VEVENT
BEGIN:VEVENT
DTSTART;TZID=America/New_York:20260425T110000
DTEND;TZID=America/New_York:20260425T140000
DTSTAMP:20260425T094931
CREATED:20260316T164358Z
LAST-MODIFIED:20260316T164358Z
UID:3567-1777114800-1777125600@www.growingatgrace.com
SUMMARY:Grace Ladies' Tea
DESCRIPTION:Sign up at the Connection Center to host a table. Or just sign up to come and enjoy!
URL:https://www.growingatgrace.com/event/grace-ladies-tea/
ATTACH;FMTTYPE=image/webp:https://www.growingatgrace.com/wp-content/uploads/2026/03/6305-Ladies-Tea-HD-Title-Slide.webp
END:VEVENT
BEGIN:VEVENT
DTSTART;TZID=America/New_York:20260429T183000
DTEND;TZID=America/New_York:20260429T193000
DTSTAMP:20260425T094931
CREATED:20260316T164548Z
LAST-MODIFIED:20260316T164548Z
UID:3570-1777487400-1777491000@www.growingatgrace.com
SUMMARY:Wednesday Night Bible Study
DESCRIPTION:
URL:https://www.growingatgrace.com/event/wednesday-night-bible-study-3/
ATTACH;FMTTYPE=image/png:https://www.growingatgrace.com/wp-content/uploads/2024/12/midweekgeneric.png
END:VEVENT
BEGIN:VEVENT
DTSTART;TZID=America/New_York:20260430T100000
DTEND;TZID=America/New_York:20260430T113000
DTSTAMP:20260425T094931
CREATED:20260211T033954Z
LAST-MODIFIED:20260211T033954Z
UID:3503-1777543200-1777548600@www.growingatgrace.com
SUMMARY:Prayer Gathering
DESCRIPTION:Join our Prayer Team 10am-11:30am at the church for a time of prayer.
URL:https://www.growingatgrace.com/event/prayer-gathering-3/
ATTACH;FMTTYPE=image/png:https://www.growingatgrace.com/wp-content/uploads/2024/12/1-1.png
END:VEVENT
BEGIN:VEVENT
DTSTART;VALUE=DATE:20260503
DTEND;VALUE=DATE:20260504
DTSTAMP:20260425T094931
CREATED:20260316T165055Z
LAST-MODIFIED:20260316T165055Z
UID:3572-1777766400-1777852799@www.growingatgrace.com
SUMMARY:Worship Service 9am & 10:45am + Teen Taco Fundraiser
DESCRIPTION:Join Us for Church This Sunday! \nWe’d love to have you join us for worship and fellowship at 9:00 AM or 10:45 AM in the main auditorium. \nAfter the second service our Teens will have a fundraiser selling Pastor John’s Favorite- TACOS!!! \nStart Your Morning Right \nOur coffee shop\, GRACE Perks\, is open before both services—grab a coffee and connect with others before worship begins! \nClasses during Service:  \n\nAdult Bible Fellowship: 9am & 10:45am\nYoung Adults Small Group: 9am Connect and grow with others in your stage of life\nStudent Life (Upper Room): 9am A place for middle and high school students\nGrace Kidz: 9am and 10:45am Fun and engaging Bible-based learning for children\nNursery: 9am and 10:45am Loving care for infants and toddlers\n\nCome as you are and experience a community centered on Christ. We can’t wait to welcome you this Sunday! \n  \n 
URL:https://www.growingatgrace.com/event/worship-service-9am-1045am-teen-taco-fundraiser/
ATTACH;FMTTYPE=image/png:https://www.growingatgrace.com/wp-content/uploads/2026/03/Taco-Fundraiser-1024x750-1.png
END:VEVENT
BEGIN:VEVENT
DTSTART;VALUE=DATE:20260506
DTEND;VALUE=DATE:20260507
DTSTAMP:20260425T094931
CREATED:20260413T195356Z
LAST-MODIFIED:20260413T195815Z
UID:3591-1778025600-1778111999@www.growingatgrace.com
SUMMARY:No Mid-Week Class- This will begin our 24 Hours of Prayer
DESCRIPTION:There will be no mid-week bible study class. This will begin our 24 Hours of Prayer at Grace. Continuous in-person prayer leading up to the National Day of Prayer service. Sign-ups at the Welcome Center!
URL:https://www.growingatgrace.com/event/no-wednesday-night-bible-study/
ATTACH;FMTTYPE=image/png:https://www.growingatgrace.com/wp-content/uploads/2026/04/24Prayer_1920x1080_ChurchCenter.png
END:VEVENT
BEGIN:VEVENT
DTSTART;TZID=America/New_York:20260507T190000
DTEND;TZID=America/New_York:20260507T203000
DTSTAMP:20260425T094931
CREATED:20260413T195040Z
LAST-MODIFIED:20260413T195040Z
UID:3588-1778180400-1778185800@www.growingatgrace.com
SUMMARY:National Day of Prayer
DESCRIPTION:Grace invites you to join us for a National Day of Prayer Gathering as we unite in prayer for our community\, our nation\, and our world. This event aligns with the annual National Day of Prayer observance\, a day set aside for people across the United States to turn to God in prayer and meditation.\nNational Day of Prayer\nMay 7\, 2025 • 7:00 PM\nGrace • 114 Kingsway Road\n\n\nIt’s the 250th Anniversary of the United States : An Evening of Unity\, Gratitude\, and National Prayer\n\nCome together with church family and community to seek God’s guidance\, peace\, and blessing for our nation. \n\nJoin Us. Pray. Unite.
URL:https://www.growingatgrace.com/event/national-day-of-prayer/
ATTACH;FMTTYPE=image/png:https://www.growingatgrace.com/wp-content/uploads/2026/04/Screens_1920x1080-1.png
END:VEVENT
BEGIN:VEVENT
DTSTART;TZID=America/New_York:20260509T090000
DTEND;TZID=America/New_York:20260509T123000
DTSTAMP:20260425T094931
CREATED:20260211T033414Z
LAST-MODIFIED:20260316T160754Z
UID:3495-1778317200-1778329800@www.growingatgrace.com
SUMMARY:Sewing Class
DESCRIPTION:Meet in Kidz Class
URL:https://www.growingatgrace.com/event/sewing-class-4/
ATTACH;FMTTYPE=image/jpeg:https://www.growingatgrace.com/wp-content/uploads/2026/02/sewing-class.jpg
END:VEVENT
BEGIN:VEVENT
DTSTART;VALUE=DATE:20260510
DTEND;VALUE=DATE:20260511
DTSTAMP:20260425T094931
CREATED:20260413T200345Z
LAST-MODIFIED:20260413T200437Z
UID:3595-1778371200-1778457599@www.growingatgrace.com
SUMMARY:Worship Service 9am & 10:45am + Mother's Day Celebration + Grace Kidz Sing!
DESCRIPTION:Join Us for Church This Sunday and bring your mom because all mom’s will receive a special gift!   \nWe’d love to have you join us for worship and fellowship at 9:00 AM or 10:45 AM in the main auditorium. \nOur coffee shop\, GRACE Perks\, is open before both services—grab a coffee and connect with others before worship begins! \n  \nClasses during Service:  \n\nAdult Bible Fellowship: 9am & 10:45am\nYoung Adults Small Group: 9am Connect and grow with others in your stage of life\nStudent Life (Upper Room): 9am A place for middle and high school students\nGrace Kidz: 9am and 10:45am Fun and engaging Bible-based learning for children\nNursery: 9am and 10:45am Loving care for infants and toddlers\n\nCome as you are and experience a community centered on Christ. We can’t wait to welcome you this Sunday!
URL:https://www.growingatgrace.com/event/worship-service-9am-1045am-mothers-day-celebration/
ATTACH;FMTTYPE=image/png:https://www.growingatgrace.com/wp-content/uploads/2024/12/1-2.png
END:VEVENT
BEGIN:VEVENT
DTSTART;VALUE=DATE:20260517
DTEND;VALUE=DATE:20260518
DTSTAMP:20260425T094931
CREATED:20260413T200749Z
LAST-MODIFIED:20260413T200749Z
UID:3598-1778976000-1779062399@www.growingatgrace.com
SUMMARY:Worship Service 9:45am + Baptism Sunday 10:45am
DESCRIPTION:Join Us for Church This Sunday!   \nWe’d love to have you join us for worship and fellowship at 9:00 AM or 10:45 AM for our Baptisms in the main auditorium. \nStart Your Morning Right \nOur coffee shop\, GRACE Perks\, is open before both services—grab a coffee and connect with others before worship begins! \n  \nClasses during Service:  \n\nAdult Bible Fellowship: 9am & 10:45am\nYoung Adults Small Group: 9am Connect and grow with others in your stage of life\nStudent Life (Upper Room): 9am A place for middle and high school students\nGrace Kidz: 9am and 10:45am Fun and engaging Bible-based learning for children\nNursery: 9am and 10:45am Loving care for infants and toddlers\n\nCome as you are and experience a community centered on Christ. We can’t wait to welcome you this Sunday!
URL:https://www.growingatgrace.com/event/worship-service-945am-baptism-sunday-1045am/
ATTACH;FMTTYPE=image/png:https://www.growingatgrace.com/wp-content/uploads/2025/05/baptism-blank-01-scaled.png
END:VEVENT
BEGIN:VEVENT
DTSTART;VALUE=DATE:20260522
DTEND;VALUE=DATE:20260523
DTSTAMP:20260425T094931
CREATED:20260413T201123Z
LAST-MODIFIED:20260413T201123Z
UID:3600-1779408000-1779494399@www.growingatgrace.com
SUMMARY:Classics Event - Watercolor Art Lesson
DESCRIPTION:Visit the Connection Center or see Debbie or Lucy for more details.
URL:https://www.growingatgrace.com/event/classics-event-watercolor-art-lesson/
ATTACH;FMTTYPE=image/png:https://www.growingatgrace.com/wp-content/uploads/2025/12/classics-generic-2025-1-1.png
END:VEVENT
BEGIN:VEVENT
DTSTART;VALUE=DATE:20260524
DTEND;VALUE=DATE:20260525
DTSTAMP:20260425T094931
CREATED:20260211T034232Z
LAST-MODIFIED:20260413T201420Z
UID:3506-1779580800-1779667199@www.growingatgrace.com
SUMMARY:Worship 9am & 10:45am & Grace Growth Track & Communion
DESCRIPTION:Join Us for Church This Sunday!  \nWe’d love to have you join us for worship and fellowship at 9:00 AM or 10:45 AM in the main auditorium\, including Communion at both services. \nOur Grace Growth Track will take place during 9am in the Chapel. If you are interested to learn more about our church please sign up at the Connection Center! \nStart Your Morning Right \nOur coffee shop\, GRACE Perks\, is open before both services—grab a coffee and connect with others before worship begins! \n  \nClasses during Service:  \n\nAdult Bible Fellowship: 9am & 10:45am\nYoung Adults Small Group: 9am Connect and grow with others in your stage of life\nStudent Life (Upper Room): 9am A place for middle and high school students\nGrace Kidz: 9am and 10:45am Fun and engaging Bible-based learning for children\nNursery: 9am and 10:45am Loving care for infants and toddlers\n\nCome as you are and experience a community centered on Christ. We can’t wait to welcome you this Sunday!
URL:https://www.growingatgrace.com/event/worship-9am-1045am-communion/
ATTACH;FMTTYPE=image/png:https://www.growingatgrace.com/wp-content/uploads/2024/08/worshipconnectserve.png
END:VEVENT
BEGIN:VEVENT
DTSTART;VALUE=DATE:20260530
DTEND;VALUE=DATE:20260531
DTSTAMP:20260425T094931
CREATED:20260413T201704Z
LAST-MODIFIED:20260413T201704Z
UID:3603-1780099200-1780185599@www.growingatgrace.com
SUMMARY:Student Life & Grace Kidz Bowling
DESCRIPTION:Sign up at the Connection Center!
URL:https://www.growingatgrace.com/event/student-life-grace-kidz-bowling/
ATTACH;FMTTYPE=image/jpeg:https://www.growingatgrace.com/wp-content/uploads/2026/04/bowl.jpeg
END:VEVENT
BEGIN:VEVENT
DTSTART;VALUE=DATE:20260531
DTEND;VALUE=DATE:20260601
DTSTAMP:20260425T094931
CREATED:20260402T163946Z
LAST-MODIFIED:20260402T164023Z
UID:3583-1780185600-1780271999@www.growingatgrace.com
SUMMARY:Worship Service 9am & 10:45 + 5th Sunday Potluck
DESCRIPTION:Join Us for Church This Sunday- Bring a Dish and stay for lunch after the 10:45am service.  If you forget\, no worries\, stay anyways!  \nWe’d love to have you join us for worship and fellowship at 9:00 AM or 10:45 AM in the main auditorium. \nStart Your Morning Right \nOur coffee shop\, GRACE Perks\, is open before both services—grab a coffee and connect with others before worship begins! \nClasses during Service:  \n\nAdult Bible Fellowship: 9am & 10:45am\nYoung Adults Small Group: 9am Connect and grow with others in your stage of life\nStudent Life (Upper Room): 9am A place for middle and high school students\nGrace Kidz: 9am and 10:45am Fun and engaging Bible-based learning for children\nNursery: 9am and 10:45am Loving care for infants and toddlers\n\nCome as you are and experience a community centered on Christ. We can’t wait to welcome you this Sunday! \n  \n 
URL:https://www.growingatgrace.com/event/5th-sunday-potluck/
ATTACH;FMTTYPE=image/png:https://www.growingatgrace.com/wp-content/uploads/2026/01/1920x1080-1.png
END:VEVENT
END:VCALENDAR